BEGIN:VCALENDAR
VERSION:2.0
PRODID:spatie/icalendar-generator
DESCRIPTION:Events from Escola HVD
X-WR-CALDESC:Events from Escola HVD
REFRESH-INTERVAL;VALUE=DURATION:PT1440M
X-PUBLISHED-TTL:PT1440M
BEGIN:VTIMEZONE
TZID:Europe/Madrid
BEGIN:STANDARD
DTSTART:20231029T030000Z
TZOFFSETFROM:+0200
TZOFFSETTO:+0100
END:STANDARD
BEGIN:DAYLIGHT
DTSTART:20240331T020000Z
TZOFFSETFROM:+0100
TZOFFSETTO:+0200
END:DAYLIGHT
END:VTIMEZONE
BEGIN:VTIMEZONE
TZID:UTC
BEGIN:STANDARD
DTSTART:20250725T020919Z
TZOFFSETFROM:+0000
TZOFFSETTO:+0000
END:STANDARD
END:VTIMEZONE
BEGIN:VEVENT
UID:40-37
DTSTAMP:20260421T020919Z
SUMMARY:Taller de Picasso - 2n
LOCATION:
ORGANIZER;CN=Irene Espinosa:MAILTO:irene.espinosa@hvdbarcelona.com
DTSTART;TZID=Europe/Madrid:20240318T090000
DTEND;TZID=Europe/Madrid:20240318T130000
X-ALT-DESC;FMTTYPE=TEXT/HTML:
CATEGORIES:Sortides
URL;VALUE=URI:https://hvdbarcelona.es/mc-events/taller-de-picasso-2n/
METHOD:PUBLISH
END:VEVENT
END:VCALENDAR