BEGIN:VCALENDAR
VERSION:2.0
PRODID:spatie/icalendar-generator
DESCRIPTION:Events from Escola HVD
X-WR-CALDESC:Events from Escola HVD
REFRESH-INTERVAL;VALUE=DURATION:PT1440M
X-PUBLISHED-TTL:PT1440M
BEGIN:VTIMEZONE
TZID:Europe/Madrid
BEGIN:STANDARD
DTSTART:20221030T030000Z
TZOFFSETFROM:+0200
TZOFFSETTO:+0100
END:STANDARD
BEGIN:DAYLIGHT
DTSTART:20230326T020000Z
TZOFFSETFROM:+0100
TZOFFSETTO:+0200
END:DAYLIGHT
BEGIN:STANDARD
DTSTART:20231029T030000Z
TZOFFSETFROM:+0200
TZOFFSETTO:+0100
END:STANDARD
END:VTIMEZONE
BEGIN:VTIMEZONE
TZID:UTC
BEGIN:STANDARD
DTSTART:20250724T105345Z
TZOFFSETFROM:+0000
TZOFFSETTO:+0000
END:STANDARD
END:VTIMEZONE
BEGIN:VEVENT
UID:2-2
DTSTAMP:20260420T105345Z
SUMMARY:FESTES DE L'ESCOLA 2023
LOCATION:
ORGANIZER;CN=Irene Espinosa:MAILTO:irene.espinosa@hvdbarcelona.com
DTSTART;TZID=Europe/Madrid;VALUE=DATE:20230610
DTEND;TZID=Europe/Madrid;VALUE=DATE:20230611
X-ALT-DESC;FMTTYPE=TEXT/HTML:
CATEGORIES:General
URL;VALUE=URI:https://hvdbarcelona.es/mc-events/festes-de-lescola-2023/
METHOD:PUBLISH
END:VEVENT
END:VCALENDAR